BEGIN:VCALENDAR
VERSION:2.0
PRODID:-//Hill Farmstead Brewery - ECPv6.15.12.2//NONSGML v1.0//EN
CALSCALE:GREGORIAN
METHOD:PUBLISH
X-ORIGINAL-URL:https://hillfarmstead.com
X-WR-CALDESC:Events for Hill Farmstead Brewery
REFRESH-INTERVAL;VALUE=DURATION:PT1H
X-Robots-Tag:noindex
X-PUBLISHED-TTL:PT1H
BEGIN:VTIMEZONE
TZID:America/New_York
BEGIN:DAYLIGHT
TZOFFSETFROM:-0500
TZOFFSETTO:-0400
TZNAME:EDT
DTSTART:20250309T070000
END:DAYLIGHT
BEGIN:STANDARD
TZOFFSETFROM:-0400
TZOFFSETTO:-0500
TZNAME:EST
DTSTART:20251102T060000
END:STANDARD
BEGIN:DAYLIGHT
TZOFFSETFROM:-0500
TZOFFSETTO:-0400
TZNAME:EDT
DTSTART:20260308T070000
END:DAYLIGHT
BEGIN:STANDARD
TZOFFSETFROM:-0400
TZOFFSETTO:-0500
TZNAME:EST
DTSTART:20261101T060000
END:STANDARD
BEGIN:DAYLIGHT
TZOFFSETFROM:-0500
TZOFFSETTO:-0400
TZNAME:EDT
DTSTART:20270314T070000
END:DAYLIGHT
BEGIN:STANDARD
TZOFFSETFROM:-0400
TZOFFSETTO:-0500
TZNAME:EST
DTSTART:20271107T060000
END:STANDARD
END:VTIMEZONE
BEGIN:VEVENT
DTSTART;TZID=America/New_York:20260423T180000
DTEND;TZID=America/New_York:20260423T200000
DTSTAMP:20260423T153212
CREATED:20260403T191057Z
LAST-MODIFIED:20260406T210308Z
UID:10000006-1776967200-1776974400@hillfarmstead.com
SUMMARY:Hill Farmstead and Jasper Hill Beer and Cheese Pairing
DESCRIPTION:Join Hill Farmstead Brewery and Jasper Hill Farm as we present a series of cheese pairing menus in Hill Farmstead’s taproom. These intimate\, four-course cheese-and-beer experiences will be led by Devin Woods of Hill Farmstead Brewery and Samuel Rheaume of Jasper Hill Farm. \nThis guided event is limited to 24 people and is by reservation only. \n 
URL:https://hillfarmstead.com/event-detail/15618/2026-04-23/
LOCATION:Hill Farmstead Brewery\, 403 Hill Road\, Greensboro Bend\, VT\, 05842\, United States
CATEGORIES:Taproom Events
ATTACH;FMTTYPE=image/jpeg:https://craftpeak-cooler-images.imgix.net/hill-farmstead-brewery/733A9691-Edit2.jpg?auto=compress%2Cformat&ixlib=php-3.3.1&s=6f0732bcc57f9300fa2631af4f29e8de
END:VEVENT
BEGIN:VEVENT
DTSTART;TZID=America/New_York:20260507T180000
DTEND;TZID=America/New_York:20260507T200000
DTSTAMP:20260423T153212
CREATED:20260403T191057Z
LAST-MODIFIED:20260406T210308Z
UID:10000007-1778176800-1778184000@hillfarmstead.com
SUMMARY:Hill Farmstead and Jasper Hill Beer and Cheese Pairing
DESCRIPTION:Join Hill Farmstead Brewery and Jasper Hill Farm as we present a series of cheese pairing menus in Hill Farmstead’s taproom. These intimate\, four-course cheese-and-beer experiences will be led by Devin Woods of Hill Farmstead Brewery and Samuel Rheaume of Jasper Hill Farm. \nThis guided event is limited to 24 people and is by reservation only. \n 
URL:https://hillfarmstead.com/event-detail/15618/2026-05-07/
LOCATION:Hill Farmstead Brewery\, 403 Hill Road\, Greensboro Bend\, VT\, 05842\, United States
CATEGORIES:Taproom Events
ATTACH;FMTTYPE=image/jpeg:https://craftpeak-cooler-images.imgix.net/hill-farmstead-brewery/733A9691-Edit2.jpg?auto=compress%2Cformat&ixlib=php-3.3.1&s=6f0732bcc57f9300fa2631af4f29e8de
END:VEVENT
BEGIN:VEVENT
DTSTART;TZID=America/New_York:20260521T180000
DTEND;TZID=America/New_York:20260521T200000
DTSTAMP:20260423T153212
CREATED:20260403T191057Z
LAST-MODIFIED:20260406T210308Z
UID:10000008-1779386400-1779393600@hillfarmstead.com
SUMMARY:Hill Farmstead and Jasper Hill Beer and Cheese Pairing
DESCRIPTION:Join Hill Farmstead Brewery and Jasper Hill Farm as we present a series of cheese pairing menus in Hill Farmstead’s taproom. These intimate\, four-course cheese-and-beer experiences will be led by Devin Woods of Hill Farmstead Brewery and Samuel Rheaume of Jasper Hill Farm. \nThis guided event is limited to 24 people and is by reservation only. \n 
URL:https://hillfarmstead.com/event-detail/15618/2026-05-21/
LOCATION:Hill Farmstead Brewery\, 403 Hill Road\, Greensboro Bend\, VT\, 05842\, United States
CATEGORIES:Taproom Events
ATTACH;FMTTYPE=image/jpeg:https://craftpeak-cooler-images.imgix.net/hill-farmstead-brewery/733A9691-Edit2.jpg?auto=compress%2Cformat&ixlib=php-3.3.1&s=6f0732bcc57f9300fa2631af4f29e8de
END:VEVENT
BEGIN:VEVENT
DTSTART;TZID=America/New_York:20260604T180000
DTEND;TZID=America/New_York:20260604T200000
DTSTAMP:20260423T153212
CREATED:20260403T191057Z
LAST-MODIFIED:20260406T210308Z
UID:10000009-1780596000-1780603200@hillfarmstead.com
SUMMARY:Hill Farmstead and Jasper Hill Beer and Cheese Pairing
DESCRIPTION:Join Hill Farmstead Brewery and Jasper Hill Farm as we present a series of cheese pairing menus in Hill Farmstead’s taproom. These intimate\, four-course cheese-and-beer experiences will be led by Devin Woods of Hill Farmstead Brewery and Samuel Rheaume of Jasper Hill Farm. \nThis guided event is limited to 24 people and is by reservation only. \n 
URL:https://hillfarmstead.com/event-detail/15618/2026-06-04/
LOCATION:Hill Farmstead Brewery\, 403 Hill Road\, Greensboro Bend\, VT\, 05842\, United States
CATEGORIES:Taproom Events
ATTACH;FMTTYPE=image/jpeg:https://craftpeak-cooler-images.imgix.net/hill-farmstead-brewery/733A9691-Edit2.jpg?auto=compress%2Cformat&ixlib=php-3.3.1&s=6f0732bcc57f9300fa2631af4f29e8de
END:VEVENT
END:VCALENDAR